BEGIN:VCALENDAR
VERSION:2.0
PRODID:-//Lanark County Neighbours for Truth and Reconciliation - ECPv6.15.20//NONSGML v1.0//EN
CALSCALE:GREGORIAN
METHOD:PUBLISH
X-WR-CALNAME:Lanark County Neighbours for Truth and Reconciliation
X-ORIGINAL-URL:https://lanarkcountyneighbours.ca
X-WR-CALDESC:Events for Lanark County Neighbours for Truth and Reconciliation
REFRESH-INTERVAL;VALUE=DURATION:PT1H
X-Robots-Tag:noindex
X-PUBLISHED-TTL:PT1H
BEGIN:VTIMEZONE
TZID:America/Toronto
BEGIN:DAYLIGHT
TZOFFSETFROM:-0500
TZOFFSETTO:-0400
TZNAME:EDT
DTSTART:20220313T070000
END:DAYLIGHT
BEGIN:STANDARD
TZOFFSETFROM:-0400
TZOFFSETTO:-0500
TZNAME:EST
DTSTART:20221106T060000
END:STANDARD
BEGIN:DAYLIGHT
TZOFFSETFROM:-0500
TZOFFSETTO:-0400
TZNAME:EDT
DTSTART:20230312T070000
END:DAYLIGHT
BEGIN:STANDARD
TZOFFSETFROM:-0400
TZOFFSETTO:-0500
TZNAME:EST
DTSTART:20231105T060000
END:STANDARD
BEGIN:DAYLIGHT
TZOFFSETFROM:-0500
TZOFFSETTO:-0400
TZNAME:EDT
DTSTART:20240310T070000
END:DAYLIGHT
BEGIN:STANDARD
TZOFFSETFROM:-0400
TZOFFSETTO:-0500
TZNAME:EST
DTSTART:20241103T060000
END:STANDARD
BEGIN:DAYLIGHT
TZOFFSETFROM:-0500
TZOFFSETTO:-0400
TZNAME:EDT
DTSTART:20250309T070000
END:DAYLIGHT
BEGIN:STANDARD
TZOFFSETFROM:-0400
TZOFFSETTO:-0500
TZNAME:EST
DTSTART:20251102T060000
END:STANDARD
END:VTIMEZONE
BEGIN:VEVENT
DTSTART;TZID=America/Toronto:20240505T130000
DTEND;TZID=America/Toronto:20240505T130000
DTSTAMP:20260423T004254
CREATED:20240420T180534Z
LAST-MODIFIED:20240425T180758Z
UID:82-1714914000-1714914000@lanarkcountyneighbours.ca
SUMMARY:Red Dress Day Ceremony
DESCRIPTION:May 5th is the National Day of Awareness in Canada for Missing and Murdered Indigenous Women\, Girls\, and Two-Spirit People. (MMIWG2S) In May 2019\, the National Inquiry on MMIWG2S report was released and it concluded that the murder and disappearance of Indigenous Women and Girls is an ongoing genocide. \nStatistics tell us that more Native Women go missing and are murdered each year compared to women from all other groups. Native Women are two and a half times more likely to experience violent crimes\, and at least two times more likely to experience rape or sexual assault crimes compared to others. 4 out of 5 Native Women have experienced violence. Native Women face murder rates 10 times above the national average. The murder rate for Native Women is about three times more than for non-Indigenous Women. It continues today and it must stop! \nIs this not a reason to Stand Up and say No More? \nPlease stand with us as we encourage all community members to honour this day by attending a Red Dress Day Ceremony near where you live\, displaying a Red Dress in your window or front yard\, and wearing red. We want to see participation from as many people\, homes\, and businesses as possible. Post pictures to your social media using hashtags such as #MMIWG\, @MMIWG2S\, #WhyWeWearRed\, and #NoMoreStolenSisters. \nWe also invite the community to attend the Red Dress Ceremony here with us in Perth at the Indigenous Healing Circle – National Healing Forest Memorial Site at 35 Craig Street\, Perth\, Ontario. The Lanark Drum Circle will be offering traditional ceremonial songs\, and there will be speakers and families of murdered or missing women and girls will be attending. \nSupported by the Lanark County Neighbours for Truth and Reconciliation. \nYou can connect with the MMIWGTS+ support line at 1-844-413-6649. This line is available free of charge\, 24 hours a day\, 7 days a week. \nWe need to continue to bring awareness to the ongoing tragedy of this issue because the rate of disappearance and murders of Native People\, particularly Women and Girls and Two-Spirit People goes virtually unnoticed until we decide to: \nStand Up and Make Change and Protect Women and Girls.
URL:https://lanarkcountyneighbours.ca/event/red-dress-day-2024/
LOCATION:Indigenous Healing Circle/ Healing Forest\, Last Dual Park\, Perth\, Ontario\, Canada
END:VEVENT
BEGIN:VEVENT
DTSTART;TZID=America/Toronto:20230611T110000
DTEND;TZID=America/Toronto:20230611T140000
DTSTAMP:20260423T004254
CREATED:20240426T223228Z
LAST-MODIFIED:20240426T223228Z
UID:199-1686481200-1686492000@lanarkcountyneighbours.ca
SUMMARY:Indigenous Plaque Dedication Ceremony
DESCRIPTION:Please join us for this important event. RSVP required here:\nhttps://www.canadahelps.org/en/charities/the-table-community-food-centre/events/honoring-chief-shawinipinessi-plaque-dedication/ \nAlgonquins of Bedford\, Oso and South Sherbrooke – Plaque Dedication\nSunday\, 11 June 2023 from 11:00 AM to 2:00 PM\, ABC Hall 3166 Bolingbroke Rd. \, Maberly\, K0H 2B0
URL:https://lanarkcountyneighbours.ca/event/indigenous-plaque-dedication-ceremony/
LOCATION:ABC Hall\, 3166 Bolingbroke Rd\, Maberly\, Ontario\, K0H 2B0\, Canada
END:VEVENT
BEGIN:VEVENT
DTSTART;TZID=America/Toronto:20230604T130000
DTEND;TZID=America/Toronto:20230604T150000
DTSTAMP:20260423T004254
CREATED:20240426T223552Z
LAST-MODIFIED:20240426T223656Z
UID:203-1685883600-1685890800@lanarkcountyneighbours.ca
SUMMARY:Inauguration of the Indigenous Healing Circle
DESCRIPTION:Sunday\, June 4th at the Indigenous Healing Circle in Perth’s Last Duel Park at 22 Craig Street.\nCeremony begins at 1pm.\nThe inauguration ceremony will be followed by a cultural celebration to honour Indigenous History Month.\nTraditional Indigenous Songs with the Lanark Drum Circle\, demo dancing\, crafts workshops\, round dance\, small feast and giveway.\nALL ARE WELCOME!
URL:https://lanarkcountyneighbours.ca/event/inauguration-of-the-indigenous-healing-circle/
LOCATION:Indigenous Healing Circle/ Healing Forest\, Last Dual Park\, Perth\, Ontario\, Canada
END:VEVENT
END:VCALENDAR